BEGIN:VCALENDAR
VERSION:2.0
PRODID:-//Energy and Mineral Resources - ECPv5.9.1//NONSGML v1.0//EN
CALSCALE:GREGORIAN
METHOD:PUBLISH
X-WR-CALNAME:Energy and Mineral Resources
X-ORIGINAL-URL:https://oemr.idaho.gov
X-WR-CALDESC:Events for Energy and Mineral Resources
BEGIN:VTIMEZONE
TZID:America/Boise
BEGIN:DAYLIGHT
TZOFFSETFROM:-0700
TZOFFSETTO:-0600
TZNAME:MDT
DTSTART:20210314T090000
END:DAYLIGHT
BEGIN:STANDARD
TZOFFSETFROM:-0600
TZOFFSETTO:-0700
TZNAME:MST
DTSTART:20211107T080000
END:STANDARD
END:VTIMEZONE
BEGIN:VEVENT
DTSTART;TZID=America/Boise:20210727T110000
DTEND;TZID=America/Boise:20210727T120000
DTSTAMP:20210921T215400
CREATED:20210614T214536Z
LAST-MODIFIED:20210614T214536Z
UID:3724-1627383600-1627387200@oemr.idaho.gov
SUMMARY:New! Residential Knee Walls
DESCRIPTION:Learn more: https://www.idahoenergycode.com/training
URL:https://oemr.idaho.gov/event/new-residential-knee-walls/
END:VEVENT
END:VCALENDAR