BEGIN:VCALENDAR
VERSION:2.0
PRODID:-//Energy and Mineral Resources - ECPv5.6.0//NONSGML v1.0//EN
CALSCALE:GREGORIAN
METHOD:PUBLISH
X-WR-CALNAME:Energy and Mineral Resources
X-ORIGINAL-URL:https://oemr.idaho.gov
X-WR-CALDESC:Events for Energy and Mineral Resources
BEGIN:VTIMEZONE
TZID:America/Boise
BEGIN:DAYLIGHT
TZOFFSETFROM:-0700
TZOFFSETTO:-0600
TZNAME:MDT
DTSTART:20190310T090000
END:DAYLIGHT
BEGIN:STANDARD
TZOFFSETFROM:-0600
TZOFFSETTO:-0700
TZNAME:MST
DTSTART:20191103T080000
END:STANDARD
END:VTIMEZONE
BEGIN:VEVENT
DTSTART;TZID=America/Boise:20191119T090000
DTEND;TZID=America/Boise:20191119T120000
DTSTAMP:20210522T024120
CREATED:20190617T173907Z
LAST-MODIFIED:20191028T134120Z
UID:2562-1574154000-1574164800@oemr.idaho.gov
SUMMARY:Land Board Meeting
DESCRIPTION:***MEETING CANCELLED***
URL:https://oemr.idaho.gov/event/land-board-meeting-6/
LOCATION:State Capitol – Lincoln Auditorium\, 700 W Jefferson St\, Boise\, ID\, 83702\, United States
END:VEVENT
END:VCALENDAR