BEGIN:VCALENDAR
VERSION:2.0
PRODID:-//Energy and Mineral Resources - ECPv5.9.1//NONSGML v1.0//EN
CALSCALE:GREGORIAN
METHOD:PUBLISH
X-WR-CALNAME:Energy and Mineral Resources
X-ORIGINAL-URL:https://oemr.idaho.gov
X-WR-CALDESC:Events for Energy and Mineral Resources
BEGIN:VTIMEZONE
TZID:America/Boise
BEGIN:DAYLIGHT
TZOFFSETFROM:-0700
TZOFFSETTO:-0600
TZNAME:MDT
DTSTART:20200308T090000
END:DAYLIGHT
BEGIN:STANDARD
TZOFFSETFROM:-0600
TZOFFSETTO:-0700
TZNAME:MST
DTSTART:20201101T080000
END:STANDARD
END:VTIMEZONE
BEGIN:VEVENT
DTSTART;TZID=America/Boise:20201215T090000
DTEND;TZID=America/Boise:20201215T110000
DTSTAMP:20211010T153506
CREATED:20200219T151035Z
LAST-MODIFIED:20200219T151035Z
UID:2996-1608022800-1608030000@oemr.idaho.gov
SUMMARY:Land Board Meeting
DESCRIPTION:More information here.
URL:https://oemr.idaho.gov/event/land-board-meeting-17/
END:VEVENT
END:VCALENDAR