BEGIN:VCALENDAR
VERSION:2.0
PRODID:-//Energy and Mineral Resources - ECPv5.9.2//NONSGML v1.0//EN
CALSCALE:GREGORIAN
METHOD:PUBLISH
X-WR-CALNAME:Energy and Mineral Resources
X-ORIGINAL-URL:https://oemr.idaho.gov
X-WR-CALDESC:Events for Energy and Mineral Resources
BEGIN:VTIMEZONE
TZID:America/Boise
BEGIN:DAYLIGHT
TZOFFSETFROM:-0700
TZOFFSETTO:-0600
TZNAME:MDT
DTSTART:20200308T090000
END:DAYLIGHT
BEGIN:STANDARD
TZOFFSETFROM:-0600
TZOFFSETTO:-0700
TZNAME:MST
DTSTART:20201101T080000
END:STANDARD
END:VTIMEZONE
BEGIN:VEVENT
DTSTART;TZID=America/Boise:20200721T090000
DTEND;TZID=America/Boise:20200721T110000
DTSTAMP:20211019T012057
CREATED:20200219T150233Z
LAST-MODIFIED:20200219T150233Z
UID:2984-1595322000-1595329200@oemr.idaho.gov
SUMMARY:Land Board Meeting
DESCRIPTION:More information here.
URL:https://oemr.idaho.gov/event/land-board-meeting-14/
END:VEVENT
END:VCALENDAR