BEGIN:VCALENDAR
VERSION:2.0
PRODID:-//Energy and Mineral Resources - ECPv5.6.0//NONSGML v1.0//EN
CALSCALE:GREGORIAN
METHOD:PUBLISH
X-WR-CALNAME:Energy and Mineral Resources
X-ORIGINAL-URL:https://oemr.idaho.gov
X-WR-CALDESC:Events for Energy and Mineral Resources
BEGIN:VTIMEZONE
TZID:America/Boise
BEGIN:DAYLIGHT
TZOFFSETFROM:-0700
TZOFFSETTO:-0600
TZNAME:MDT
DTSTART:20200308T090000
END:DAYLIGHT
BEGIN:STANDARD
TZOFFSETFROM:-0600
TZOFFSETTO:-0700
TZNAME:MST
DTSTART:20201101T080000
END:STANDARD
END:VTIMEZONE
BEGIN:VEVENT
DTSTART;TZID=America/Boise:20200421T090000
DTEND;TZID=America/Boise:20200421T110000
DTSTAMP:20210516T172634
CREATED:20200219T150051Z
LAST-MODIFIED:20200219T150051Z
UID:2978-1587459600-1587466800@oemr.idaho.gov
SUMMARY:Land Board Meeting
DESCRIPTION:More information here.
URL:https://oemr.idaho.gov/event/land-board-meeting-11/
END:VEVENT
END:VCALENDAR