BEGIN:VCALENDAR
VERSION:2.0
PRODID:-//Energy and Mineral Resources - ECPv5.9.2//NONSGML v1.0//EN
CALSCALE:GREGORIAN
METHOD:PUBLISH
X-WR-CALNAME:Energy and Mineral Resources
X-ORIGINAL-URL:https://oemr.idaho.gov
X-WR-CALDESC:Events for Energy and Mineral Resources
BEGIN:VTIMEZONE
TZID:America/Boise
BEGIN:DAYLIGHT
TZOFFSETFROM:-0700
TZOFFSETTO:-0600
TZNAME:MDT
DTSTART:20200308T090000
END:DAYLIGHT
BEGIN:STANDARD
TZOFFSETFROM:-0600
TZOFFSETTO:-0700
TZNAME:MST
DTSTART:20201101T080000
END:STANDARD
END:VTIMEZONE
BEGIN:VEVENT
DTSTART;VALUE=DATE:20200720
DTEND;VALUE=DATE:20200721
DTSTAMP:20211019T011937
CREATED:20200305T213012Z
LAST-MODIFIED:20200305T213012Z
UID:3077-1595203200-1595289599@oemr.idaho.gov
SUMMARY:IDABO DET Training
DESCRIPTION:Location: TBA  \nContact IDABO for further  information. 
URL:https://oemr.idaho.gov/event/idabo-det-training-13/
END:VEVENT
END:VCALENDAR