BEGIN:VCALENDAR
VERSION:2.0
PRODID:-//Energy and Mineral Resources - ECPv5.9.1//NONSGML v1.0//EN
CALSCALE:GREGORIAN
METHOD:PUBLISH
X-WR-CALNAME:Energy and Mineral Resources
X-ORIGINAL-URL:https://oemr.idaho.gov
X-WR-CALDESC:Events for Energy and Mineral Resources
BEGIN:VTIMEZONE
TZID:America/Boise
BEGIN:DAYLIGHT
TZOFFSETFROM:-0700
TZOFFSETTO:-0600
TZNAME:MDT
DTSTART:20210314T090000
END:DAYLIGHT
BEGIN:STANDARD
TZOFFSETFROM:-0600
TZOFFSETTO:-0700
TZNAME:MST
DTSTART:20211107T080000
END:STANDARD
END:VTIMEZONE
BEGIN:VEVENT
DTSTART;TZID=America/Boise:20210823T090000
DTEND;TZID=America/Boise:20210823T120000
DTSTAMP:20210923T213721
CREATED:20210614T215844Z
LAST-MODIFIED:20210614T215844Z
UID:3738-1629709200-1629720000@oemr.idaho.gov
SUMMARY:Air Balance Certification Training
DESCRIPTION:Learn more: https://www.idahoenergycode.com/training
URL:https://oemr.idaho.gov/event/air-balance-certification-training/
END:VEVENT
END:VCALENDAR